BEGIN:VCALENDAR
VERSION:2.0
PRODID:-//The Sydney Gay &amp; Lesbian Business Association - ECPv4.7.4//NONSGML v1.0//EN
CALSCALE:GREGORIAN
METHOD:PUBLISH
X-WR-CALNAME:The Sydney Gay &amp; Lesbian Business Association
X-ORIGINAL-URL:https://www.sglba.org.au
X-WR-CALDESC:Events for The Sydney Gay &amp; Lesbian Business Association
BEGIN:VEVENT
DTSTART;TZID=Australia/Sydney:20190217T100000
DTEND;TZID=Australia/Sydney:20190217T200000
DTSTAMP:20190227T234644
CREATED:20190102T024138Z
LAST-MODIFIED:20190102T032744Z
UID:13418-1550397600-1550433600@www.sglba.org.au
SUMMARY:Fair Day 2019 | Mardi Gras
DESCRIPTION:\n                            if(!document.getElementById( "builder-styles" ) && document.getElementById( "builder-styles-css" ) ) document.getElementById( "builder-styles-css" ).insertAdjacentHTML( "beforebegin"\, "" );\n                        \n\n    \n		\n		\n						\n                                    \n                                                                \n                            \n\n\n\n    \n    \n        Join us at the next new member event.        \n\n\n\n\n\n\n    \n    \n        An evening of networking\, a chance to meet other members and learn more about the benefits of membership.        \n\n\n\n\n    \n    \n        \n        \n        \n                            \n					 Tickets available on Eventbrite                \n                    \n    \n    \n\n\n\n    \n    \n        \n        \n        \n                            \n                                                           \n            \n                        \n            \n        \n        \n            \n    \n\n\n\n\n\n    \n    \n        Our event sponsor: Strata Embassy        \n\n\n                        \n                    		\n		        \n                                                                \n                            \n\n\n\n    \n    \n        Come along to our fabulous networking event for SGLBA Members and Friends. Our New and Prospective Member’s Night is a great way to meet other SGLBA Members and the Board\, in an informal and friendly setting and find out more about your membership and the organisation. \nWe want to make sure you make the most of your Membership with the SGLBA! On the night we will take you through some of the key benefits and opportunities available plus you will leave with an exclusive gift bag full of offers from other SGLBA Members. \nLight canapes will be provided and drinks will be available for purchase from the bar. We also encourage you to bring along any friends/colleagues that might be interested in finding out more about the SGLBA! \nWant to know more?\nQueries: Natasha Badrov\, Memberships Director         \n\n\n                        \n                    		\n		                                \n                                \n                        \n                        \n		\n
URL:https://www.sglba.org.au/event/fair-day-2019-mardi-gras/
LOCATION:Victoria Park\, Camperdown\, 1001 City Road\, Camperdown\, NSW\, 2050\, Australia
CATEGORIES:Community Events
ORGANIZER;CN="Blake%20Mason":MAILTO:events@sglba.org.au
END:VEVENT
BEGIN:VEVENT
DTSTART;TZID=Australia/Sydney:20190221T180000
DTEND;TZID=Australia/Sydney:20190221T210000
DTSTAMP:20190227T234644
CREATED:20190127T101249Z
LAST-MODIFIED:20190127T103040Z
UID:13908-1550772000-1550782800@www.sglba.org.au
SUMMARY:Fruits in Suits - February
DESCRIPTION:\n\n    \n		\n		\n						\n                                    \n                                                                \n                            \n\n\n\n    \n    \n        Join us at the next new member event.        \n\n\n\n\n\n\n    \n    \n        An evening of networking\, a chance to meet other members and learn more about the benefits of membership.        \n\n\n\n\n    \n    \n        \n        \n        \n                            \n					 Tickets available on Eventbrite                \n                    \n    \n    \n\n\n\n    \n    \n        \n        \n        \n                            \n                                                           \n            \n                        \n            \n        \n        \n            \n    \n\n\n\n\n\n    \n    \n        Our event sponsor: Strata Embassy        \n\n\n                        \n                    		\n		        \n                                                                \n                            \n\n\n\n    \n    \n        Come along to our fabulous networking event for SGLBA Members and Friends. Our New and Prospective Member’s Night is a great way to meet other SGLBA Members and the Board\, in an informal and friendly setting and find out more about your membership and the organisation. \nWe want to make sure you make the most of your Membership with the SGLBA! On the night we will take you through some of the key benefits and opportunities available plus you will leave with an exclusive gift bag full of offers from other SGLBA Members. \nLight canapes will be provided and drinks will be available for purchase from the bar. We also encourage you to bring along any friends/colleagues that might be interested in finding out more about the SGLBA! \nWant to know more?\nQueries: Natasha Badrov\, Memberships Director         \n\n\n                        \n                    		\n		                                \n                                \n                        \n                        \n		\n
URL:https://www.sglba.org.au/event/fruits-in-suits-february/
LOCATION:Social at Verandah\, 55-65 Elizabeth Street\, Sydney\, NSW\, 2000\, Australia
CATEGORIES:Fruits in Suits
ATTACH;FMTTYPE=image/jpeg:https://www.sglba.org.au/wp-content/uploads/2019/01/BANNER-Jan-2018-Fruits-in-Suits-.jpeg
ORGANIZER;CN="Blake%20Mason":MAILTO:events@sglba.org.au
END:VEVENT
BEGIN:VEVENT
DTSTART;TZID=Australia/Sydney:20190226T083000
DTEND;TZID=Australia/Sydney:20190226T110000
DTSTAMP:20190227T234644
CREATED:20190124T112503Z
LAST-MODIFIED:20190124T121229Z
UID:13874-1551169800-1551178800@www.sglba.org.au
SUMMARY:Digital Garage for Mardi Gras 2019
DESCRIPTION:\n\n    \n		\n		\n						\n                                    \n                                                                \n                            \n\n\n\n    \n    \n        Join us at the next new member event.        \n\n\n\n\n\n\n    \n    \n        An evening of networking\, a chance to meet other members and learn more about the benefits of membership.        \n\n\n\n\n    \n    \n        \n        \n        \n                            \n					 Tickets available on Eventbrite                \n                    \n    \n    \n\n\n\n    \n    \n        \n        \n        \n                            \n                                                           \n            \n                        \n            \n        \n        \n            \n    \n\n\n\n\n\n    \n    \n        Our event sponsor: Strata Embassy        \n\n\n                        \n                    		\n		        \n                                                                \n                            \n\n\n\n    \n    \n        Come along to our fabulous networking event for SGLBA Members and Friends. Our New and Prospective Member’s Night is a great way to meet other SGLBA Members and the Board\, in an informal and friendly setting and find out more about your membership and the organisation. \nWe want to make sure you make the most of your Membership with the SGLBA! On the night we will take you through some of the key benefits and opportunities available plus you will leave with an exclusive gift bag full of offers from other SGLBA Members. \nLight canapes will be provided and drinks will be available for purchase from the bar. We also encourage you to bring along any friends/colleagues that might be interested in finding out more about the SGLBA! \nWant to know more?\nQueries: Natasha Badrov\, Memberships Director         \n\n\n                        \n                    		\n		                                \n                                \n                        \n                        \n		\n  \n
URL:https://www.sglba.org.au/event/digital-garage-for-mardi-gras-2019/
LOCATION:Google Sydney\, 48 Pirrama Road\, Pyrmont\, NSW\, 2009\, Australia
CATEGORIES:Community Events,Special Events
ATTACH;FMTTYPE=image/png:https://www.sglba.org.au/wp-content/uploads/2019/01/SOCIAL-POST-2019-Google-Digital-Garage-1200x630pxl.png
END:VEVENT
BEGIN:VEVENT
DTSTART;TZID=Australia/Sydney:20190301T180000
DTEND;TZID=Australia/Sydney:20190302T020000
DTSTAMP:20190227T234644
CREATED:20190101T045611Z
LAST-MODIFIED:20190101T051245Z
UID:13399-1551463200-1551492000@www.sglba.org.au
SUMMARY:LIVE  Heartbreaker Sydney – Mardi Gras 2019
DESCRIPTION:\n\n    \n		\n		\n						\n                                    \n                                                                \n                            \n\n\n\n    \n    \n        Join us at the next new member event.        \n\n\n\n\n\n\n    \n    \n        An evening of networking\, a chance to meet other members and learn more about the benefits of membership.        \n\n\n\n\n    \n    \n        \n        \n        \n                            \n					 Tickets available on Eventbrite                \n                    \n    \n    \n\n\n\n    \n    \n        \n        \n        \n                            \n                                                           \n            \n                        \n            \n        \n        \n            \n    \n\n\n\n\n\n    \n    \n        Our event sponsor: Strata Embassy        \n\n\n                        \n                    		\n		        \n                                                                \n                            \n\n\n\n    \n    \n        Come along to our fabulous networking event for SGLBA Members and Friends. Our New and Prospective Member’s Night is a great way to meet other SGLBA Members and the Board\, in an informal and friendly setting and find out more about your membership and the organisation. \nWe want to make sure you make the most of your Membership with the SGLBA! On the night we will take you through some of the key benefits and opportunities available plus you will leave with an exclusive gift bag full of offers from other SGLBA Members. \nLight canapes will be provided and drinks will be available for purchase from the bar. We also encourage you to bring along any friends/colleagues that might be interested in finding out more about the SGLBA! \nWant to know more?\nQueries: Natasha Badrov\, Memberships Director         \n\n\n                        \n                    		\n		                                \n                                \n                        \n                        \n		\n
URL:https://www.sglba.org.au/event/live-heartbreaker-sydney-mardi-gras-2019/
LOCATION:The Oxford Hotel\, 134 Oxford Street\, Darlinghurst\, New South Wales\, 2010\, Australia
CATEGORIES:Lemons with a Twist
ORGANIZER;CN="Ruby%20Phoenix":MAILTO:lemons@sglba.org.au
END:VEVENT
END:VCALENDAR